BEGIN:VCALENDAR
VERSION:2.0
PRODID:-//eventon.com NONSGML v1.0//EN
CALSCALE:GREGORIAN
METHOD:PUBLISH
BEGIN:VEVENT
UID:69ecefe54b2b5
DTSTAMP:20260425T164629Z
DTSTART:20250811T223000Z
DTEND:20250812T010000Z
LOCATION:
SUMMARY:Women's "Finishing Strong" Fellowship Night
DESCRIPTION:Ivyâ€™s Womenâ€™s Ministry Presents: "Finishing Strong" Our 3rd
  Event of the Year! As we cross the halfway point of the year\,  the Womenâ
 €™s Ministry invites you to join us for a powerful time of fellowship\,  re
 flection\,  and renewed purpose. Finishing Strong is about recommitting our
 selvesâ€”spiritually\,  personally\,  and collectivelyâ€”to the vision[..]\
 nhttps://www.ivybaptistchurch.org/events/womens-finishing-strong-fellowship
 -night/
URL:https://www.ivybaptistchurch.org/events/womens-finishing-strong-fellowship-night/
END:VEVENT
END:VCALENDAR