BEGIN:VCALENDAR
VERSION:2.0
PRODID:-//eventon.com NONSGML v1.0//EN
CALSCALE:GREGORIAN
METHOD:PUBLISH
BEGIN:VEVENT
UID:69eceb3ed248c
DTSTAMP:20260425T162638Z
DTSTART:20250713T224400Z
DTEND:20250728T224400Z
LOCATION:
SUMMARY:Disaster Relief for Texas
DESCRIPTION:Last day to donate items will be Sunday\,  July 27th. Ivy will 
 delivery donated items to New Beech Grove on Monday July 28th.\nhttps://www
 .ivybaptistchurch.org/events/disaster-relief-for-texas/
URL:https://www.ivybaptistchurch.org/events/disaster-relief-for-texas/
END:VEVENT
END:VCALENDAR