BEGIN:VCALENDAR
VERSION:2.0
PRODID:-//eventon.com NONSGML v1.0//EN
CALSCALE:GREGORIAN
METHOD:PUBLISH
BEGIN:VEVENT
UID:69ec3bb70486a
DTSTAMP:20260425T035743Z
DTSTART:20250124T230000Z
DTEND:20250125T013000Z
LOCATION:
SUMMARY:Prayer Board Party
DESCRIPTION:Start the year off right and join the Youth Ignite Ministry for
  a PRAYER BOARD party. This is a bring your own board event. The party will
  take place in the basement.\nhttps://www.ivybaptistchurch.org/events/praye
 r-board-party/
URL:https://www.ivybaptistchurch.org/events/prayer-board-party/
END:VEVENT
END:VCALENDAR